BEGIN:VCALENDAR
VERSION:2.0
PRODID:-//Contratero//ES
CALSCALE:GREGORIAN
METHOD:PUBLISH
BEGIN:VEVENT
UID:CONTR 8484 2024@contratero.es
DTSTAMP:20260424T190300Z
DTSTART:20241115T235959
DTEND:20241116T005959
SUMMARY:Cierre: Servei d’assistència i suport microinformàtic del 
DESCRIPTION:Servei d’assistència i suport microinformàtic del Servei d’Ocupació de les Illes Balears\\n\\nOrganismo: Servicio de Empleo de las Illes Balears\\n\\nVer en Contratero: https://contratero.es/contracts/CONTR 8484 2024
URL:https://contratero.es/contracts/CONTR 8484 2024
STATUS:CONFIRMED
BEGIN:VALARM
TRIGGER:-P1D
ACTION:DISPLAY
DESCRIPTION:Recordatorio: Servei d’assistència i suport 
END:VALARM
END:VEVENT
END:VCALENDAR